BEGIN:VCALENDAR
METHOD:PUBLISH
VERSION:2.0
CALSCALE:GREGORIAN
PRODID:-//NONSGML Sandhills Development\, LLC//NONSGML Sugar Calendar Fe
 eds v3.8.2//EN
X-WR-CALNAME:STARCOM Civilian Career Fair
X-WR-CALDESC:Viera
X-WR-TIMEZONE:America/New_York
BEGIN:VTIMEZONE
TZID:America/New_York
BEGIN:STANDARD
TZOFFSETFROM:-0400
TZOFFSETTO:-0500
DTSTART:20251102T060000
TZNAME:EST
END:STANDARD
BEGIN:DAYLIGHT
TZOFFSETFROM:-0500
TZOFFSETTO:-0400
DTSTART:20260308T070000
TZNAME:EDT
END:DAYLIGHT
END:VTIMEZONE
BEGIN:VTIMEZONE
TZID:America/New_York
BEGIN:STANDARD
TZOFFSETFROM:-0400
TZOFFSETTO:-0500
DTSTART:20251102T060000
TZNAME:EST
END:STANDARD
BEGIN:DAYLIGHT
TZOFFSETFROM:-0500
TZOFFSETTO:-0400
DTSTART:20260308T070000
TZNAME:EDT
END:DAYLIGHT
END:VTIMEZONE
BEGIN:VEVENT
SUMMARY:STARCOM Civilian Career Fair
DESCRIPTION:WHERE:\n\nTHE TIDES\n1001 NORTH HIGHWAY A1A\nS ATLANTIC AVE\
 , PATRICK SFB\, FL 32925\n\nThe U.S. Space Force’s Space Training and 
 Readiness Command is expanding its civilian workforce with a hiring surg
 e of more than 400 positions across the country\, supporting its role as
  the service’s field command for accessions\, training\, testing\, war
 gaming and education.\n\nSTARCOM will host a career fair from 10 a.m. to
  2 p.m. April 21 at The Tides Club at Patrick Space Force Base. Attendee
 s can meet with hiring officials\, learn about current opportunities and
  explore how their skills align with Space Force missions. Additional ca
 reer fairs are being scheduled in Colorado Springs\, Colorado\, and Vand
 enberg SFB in May.\n\nAvailable opportunities span a range of mission-cr
 itical and technical functions\, including:\n\n 	Aerospace and systems e
 ngineering\n 	Cybersecurity and network operations\n 	Intelligence analy
 sis and space domain awareness\n 	Test and evaluation analysis\n 	Modeli
 ng\, simulation and wargaming\n 	Data science and operations research\n 
 	Acquisition and program management\n\n\n\n&nbsp\;
URL;VALUE=URI:https://viera.com/events/starcom-civilian-career-fair/
UID:urn:uuid:60a526bc-a814-4a50-8472-3a4e9599ee43
STATUS:CONFIRMED
ORGANIZER:
DTSTAMP:20260421T060244Z
DTSTART;TZID=America/New_York:20260421T100000
DTEND;TZID=America/New_York:20260421T140000
END:VEVENT
END:VCALENDAR