BEGIN:VCALENDAR
METHOD:PUBLISH
VERSION:2.0
CALSCALE:GREGORIAN
PRODID:-//NONSGML Sandhills Development\, LLC//NONSGML Sugar Calendar Fe
 eds v3.8.2//EN
X-WR-CALNAME:Every Day Is Veterans Day
X-WR-CALDESC:Viera
X-WR-TIMEZONE:America/New_York
BEGIN:VTIMEZONE
TZID:America/New_York
BEGIN:STANDARD
TZOFFSETFROM:-0400
TZOFFSETTO:-0500
DTSTART:20251102T060000
TZNAME:EST
END:STANDARD
END:VTIMEZONE
BEGIN:VTIMEZONE
TZID:America/New_York
BEGIN:STANDARD
TZOFFSETFROM:-0400
TZOFFSETTO:-0500
DTSTART:20251102T060000
TZNAME:EST
END:STANDARD
END:VTIMEZONE
BEGIN:VEVENT
SUMMARY:Every Day Is Veterans Day
DESCRIPTION:Location\nOne Senior Place Brevard/Space Coast\n8085 Spyglas
 s Hill Road\nMelbourne\, FL 32940\n\nJoin One Senior Place for the 9th A
 nnual Every Day is Veterans Day\, a free community event honoring those 
 who served.\n\nEnjoy a catered lunch\, keynote speaker\, musical perform
 ances\, and connect with valuable veteran resources.\n\nLimited seating\
 , RSVP Required. CALL 321-751-6771
URL;VALUE=URI:https://viera.com/events/every-day-is-veterans-day/
UID:urn:uuid:aec17bc4-4109-4613-8a7a-57ff9ec5aee6
STATUS:CONFIRMED
ORGANIZER:
DTSTAMP:20260419T123014Z
DTSTART;TZID=America/New_York:20260227T100000
DTEND;TZID=America/New_York:20260227T133000
END:VEVENT
END:VCALENDAR